BEGIN:VCALENDAR
VERSION:2.0
PRODID:-//Colorado Calligraphers&#039; Guild - ECPv6.15.20//NONSGML v1.0//EN
CALSCALE:GREGORIAN
METHOD:PUBLISH
X-ORIGINAL-URL:https://www.coloradocalligraphers.com
X-WR-CALDESC:Events for Colorado Calligraphers&#039; Guild
REFRESH-INTERVAL;VALUE=DURATION:PT1H
X-Robots-Tag:noindex
X-PUBLISHED-TTL:PT1H
BEGIN:VTIMEZONE
TZID:America/Denver
BEGIN:DAYLIGHT
TZOFFSETFROM:-0700
TZOFFSETTO:-0600
TZNAME:MDT
DTSTART:20230312T090000
END:DAYLIGHT
BEGIN:STANDARD
TZOFFSETFROM:-0600
TZOFFSETTO:-0700
TZNAME:MST
DTSTART:20231105T080000
END:STANDARD
BEGIN:DAYLIGHT
TZOFFSETFROM:-0700
TZOFFSETTO:-0600
TZNAME:MDT
DTSTART:20240310T090000
END:DAYLIGHT
BEGIN:STANDARD
TZOFFSETFROM:-0600
TZOFFSETTO:-0700
TZNAME:MST
DTSTART:20241103T080000
END:STANDARD
BEGIN:DAYLIGHT
TZOFFSETFROM:-0700
TZOFFSETTO:-0600
TZNAME:MDT
DTSTART:20250309T090000
END:DAYLIGHT
BEGIN:STANDARD
TZOFFSETFROM:-0600
TZOFFSETTO:-0700
TZNAME:MST
DTSTART:20251102T080000
END:STANDARD
END:VTIMEZONE
BEGIN:VEVENT
DTSTART;TZID=America/Denver:20240501T183000
DTEND;TZID=America/Denver:20240501T203000
DTSTAMP:20260422T055105
CREATED:20240108T221943Z
LAST-MODIFIED:20240318T215628Z
UID:4690-1714588200-1714595400@www.coloradocalligraphers.com
SUMMARY:May 1 & 8 Workshop - Pointed Pen Straight Up with Barbara Close
DESCRIPTION:Colorado Calligraphers’ Guild May 2024 Workshop\n\nPointed Pen Straight Up\nPresented by Barbara Close\nWednesdays\, May 1 and 8\, 2024\n6:30-8:30pm MDT on Zoom\n\n\n\nMembers: $60\nNon-members: $75\nAll levels welcome\nDEADLINE to register is April 26\, 2024\n\n\n\n\n\n\n\n\nTo Register: Sign up below or send a check payable to Colorado Calligraphers’ Guild\, PO Box 102672\, Denver\, CO 80250-2672. Members have priority registration until March 30\, then the workshop is open to the general public.  \nRegistrations will be accepted on a first-come\, first-serve basis. Please note that registration is non-refundable unless your spot can be filled from the waiting list or a substitute provided by the enrollee. For a list of workshop policies\, go to https://www.coloradocalligraphers.com/about-2/policies/. Please contact Tess Vonfeldt-Gross with questions at ccgworkshops@coloradocalligraphers.com. \nThis is an online Zoom class with full interaction with the instructor during class time. The supply list and handouts will be sent later after you sign up. The zoom link will be sent a few days before the start of the workshop. This workshop will be recorded for future access by participants until June 10\, 2024. \nWorkshop Description\nThis script offers students a chance to try their pointed pen with less formality than standard Copperplate. We’ll be keeping our letters more upright. This allows the student to relax and experiment without feeling intimidated. We hope you will join us! \nAbout Barbara\nBarbara is an internationally known calligrapher/artist and teaches in southern California\, across the USA and Canada. She thoroughly loves teaching and sharing with students. She also teaches online global classes through Zoom and loves the idea of reaching so many people. Her work includes a wide variety of lettering styles and mixed media applications\, and has exhibitions across the country as well as in many private collections. Her work has creative passion while showing the exhilaration of discovery in playful experimentations with skillful execution. She has taught at several International Lettering and IAMPETH conferences. Barbara has designed the logo for Somerset Studio Magazine and The Calligraphy Collection font cartridge for Cricut. She has also designed several greeting cards for Marcel Schurman\, now Papyrus.  \nFollow Your Heart is a philosophy that shows in her work\, and continues with growth\, heart and inspiration. You can see her work at www.barbclose.com.
URL:https://www.coloradocalligraphers.com/event/pointed-pen-straight-up-may-1-8/
CATEGORIES:Workshops
END:VEVENT
END:VCALENDAR