BEGIN:VCALENDAR
VERSION:2.0
PRODID:-//Colorado Calligraphers&#039; Guild - ECPv6.15.20//NONSGML v1.0//EN
CALSCALE:GREGORIAN
METHOD:PUBLISH
X-ORIGINAL-URL:https://www.coloradocalligraphers.com
X-WR-CALDESC:Events for Colorado Calligraphers&#039; Guild
REFRESH-INTERVAL;VALUE=DURATION:PT1H
X-Robots-Tag:noindex
X-PUBLISHED-TTL:PT1H
BEGIN:VTIMEZONE
TZID:America/Denver
BEGIN:DAYLIGHT
TZOFFSETFROM:-0700
TZOFFSETTO:-0600
TZNAME:MDT
DTSTART:20240310T090000
END:DAYLIGHT
BEGIN:STANDARD
TZOFFSETFROM:-0600
TZOFFSETTO:-0700
TZNAME:MST
DTSTART:20241103T080000
END:STANDARD
BEGIN:DAYLIGHT
TZOFFSETFROM:-0700
TZOFFSETTO:-0600
TZNAME:MDT
DTSTART:20250309T090000
END:DAYLIGHT
BEGIN:STANDARD
TZOFFSETFROM:-0600
TZOFFSETTO:-0700
TZNAME:MST
DTSTART:20251102T080000
END:STANDARD
BEGIN:DAYLIGHT
TZOFFSETFROM:-0700
TZOFFSETTO:-0600
TZNAME:MDT
DTSTART:20260308T090000
END:DAYLIGHT
BEGIN:STANDARD
TZOFFSETFROM:-0600
TZOFFSETTO:-0700
TZNAME:MST
DTSTART:20261101T080000
END:STANDARD
END:VTIMEZONE
BEGIN:VEVENT
DTSTART;TZID=America/Denver:20250813T183000
DTEND;TZID=America/Denver:20250813T200000
DTSTAMP:20260423T063713
CREATED:20250714T205942Z
LAST-MODIFIED:20250725T161826Z
UID:5673-1755109800-1755115200@www.coloradocalligraphers.com
SUMMARY:Show & Tell August 13 Program
DESCRIPTION:Summer of 2025 Show & Tell\nHosted by Jenny Allen\nWednesday\, August 13\, 2025\n6:30pm MST on Zoom\n \nProgram Description\nDo you have something to share? This program will be an informal get together to share projects\, practices and studies you did over the summer. Held on zoom hosted by Jenny Allen. There will be no recording. \nPlease RSVP by August 10 to Jenny at ccgprograms@coloradocalligraphers.com. We will send a link a few days before the program. Limit to 20 participants so we can all have some time to share.
URL:https://www.coloradocalligraphers.com/event/august-13-member-program-summer-of-2025-show-tell/
CATEGORIES:Programs
END:VEVENT
END:VCALENDAR