BEGIN:VCALENDAR
VERSION:2.0
PRODID:-//Colorado Calligraphers&#039; Guild - ECPv6.15.20//NONSGML v1.0//EN
CALSCALE:GREGORIAN
METHOD:PUBLISH
X-WR-CALNAME:Colorado Calligraphers&#039; Guild
X-ORIGINAL-URL:https://www.coloradocalligraphers.com
X-WR-CALDESC:Events for Colorado Calligraphers&#039; Guild
REFRESH-INTERVAL;VALUE=DURATION:PT1H
X-Robots-Tag:noindex
X-PUBLISHED-TTL:PT1H
BEGIN:VTIMEZONE
TZID:America/Denver
BEGIN:DAYLIGHT
TZOFFSETFROM:-0700
TZOFFSETTO:-0600
TZNAME:MDT
DTSTART:20250309T090000
END:DAYLIGHT
BEGIN:STANDARD
TZOFFSETFROM:-0600
TZOFFSETTO:-0700
TZNAME:MST
DTSTART:20251102T080000
END:STANDARD
BEGIN:DAYLIGHT
TZOFFSETFROM:-0700
TZOFFSETTO:-0600
TZNAME:MDT
DTSTART:20260308T090000
END:DAYLIGHT
BEGIN:STANDARD
TZOFFSETFROM:-0600
TZOFFSETTO:-0700
TZNAME:MST
DTSTART:20261101T080000
END:STANDARD
BEGIN:DAYLIGHT
TZOFFSETFROM:-0700
TZOFFSETTO:-0600
TZNAME:MDT
DTSTART:20270314T090000
END:DAYLIGHT
BEGIN:STANDARD
TZOFFSETFROM:-0600
TZOFFSETTO:-0700
TZNAME:MST
DTSTART:20271107T080000
END:STANDARD
END:VTIMEZONE
BEGIN:VEVENT
DTSTART;TZID=America/Denver:20260311T183000
DTEND;TZID=America/Denver:20260311T200000
DTSTAMP:20260420T025123
CREATED:20260118T203227Z
LAST-MODIFIED:20260119T163529Z
UID:6316-1773253800-1773259200@www.coloradocalligraphers.com
SUMMARY:March 11 Program - Pysanky Eggs presented by Annie Lawrence
DESCRIPTION:March 2026 Program\nPysanky Eggs\nPresented by Annie Lawrence\nWednesday\, March 11\, 2026\n6:30pm MT on Zoom\n \nMembers: free\, Non-members: $10\nMembers need not register. Non-members please register below. A zoom link will be sent to current members and program registrants a few days before the program. This program will be recorded for future viewing. Please contact Jenny Allen with questions at ccgprograms@coloradocalligraphers.com. \nAbout Annie\nAnnie Lawrence has been studying Calligraphy and the related arts since 1980. She has taken classes from some of the best calligraphers in the world and considers Marsha Brady her mentor. \nAnnie’s work has appeared in the Society for Calligraphy\, Los Angeles Journal Calligraph\, Somerset Studio Magazine\, the Artful Book of Days\, and The Calligrapher’s Engagement Calendar. Her work has also appeared in many Society for Calligraphy exhibits. In 1998 she was on the Faculty of the 19th International Calligraphy/Lettering Arts Conference in San Diego. Beginning in 2010\, for three consecutive years she taught a week long rubber stamp carving class at Yosemite Art Center. She has also been on the Letters California Style Mini Conference faculty for two years teaching bookbinding. \nWorking from her home studio through the years\, she has offered classes and workshops in her community in Calligraphy\, Bookbinding\, Paste papers\, Marbling\, Watercolor techniques\, Rubber stamp carving\, Pysanky and Origami. \nWhile living in Cambria\, CA\, Annie and her sister Judy\, self published a book that is still popular there. “12 Great Walks in Cambria\, exploring Paradise on Foot.” In Santa Maria where she is currently residing\, Annie did the map “Historical Walk of Santa Maria”. Its proceeds help support the oldest park in Santa Maria\, and has been made into a puzzle by the Minerva Club of Santa Maria.
URL:https://www.coloradocalligraphers.com/event/march-11-program-pysanky-eggs-presented-by-annie-lawrence/
CATEGORIES:Programs
END:VEVENT
END:VCALENDAR